BEGIN:VCALENDAR
VERSION:2.0
PRODID:-//Tukios.com/
BEGIN:VEVENT
UID:27d70f08-a043-46c2-8f48-fa6f5744cb93@www.paradisfuneralhome.com
DTSTAMP:20260420T014845Z
DTSTART:20260424T170000Z
DTEND:20260424T190000Z
SUMMARY:Memorial Calling Hours
DESCRIPTION:
URL:https://www.paradisfuneralhome.com/obituaries/jean-duteau
LOCATION: 357 Main St  Oxford MA 01540
GEO:42.1210503;-71.8646757
END:VEVENT
END:VCALENDAR