BEGIN:VCALENDAR
VERSION:2.0
PRODID:-//Tukios.com/
BEGIN:VEVENT
UID:f79c4367-c4ea-417b-8023-dd5fc9111679@www.paradisfuneralhome.com
DTSTAMP:20260420T014550Z
DTSTART:20260424T190000Z
DTEND:20260424T200000Z
SUMMARY:Memorial Service
DESCRIPTION:
URL:https://www.paradisfuneralhome.com/obituaries/jean-duteau
LOCATION: 357 Main St  Oxford MA 01540
GEO:42.1210503;-71.8646757
END:VEVENT
END:VCALENDAR