BEGIN:VCALENDAR
VERSION:2.0
PRODID:-//Tukios.com/
BEGIN:VEVENT
UID:33aa8718-d6a1-40de-b173-ee64fd3b95ab@www.paradisfuneralhome.com
DTSTAMP:20260422T000655Z
DTSTART:20260427T200000Z
DTEND:20260427T230000Z
SUMMARY:Calling Hours
DESCRIPTION:
URL:https://www.paradisfuneralhome.com/obituaries/retired-colonel-a-russell-pytko
LOCATION: 357 Main St  Oxford MA 01540
GEO:42.1210503;-71.8646757
END:VEVENT
END:VCALENDAR