BEGIN:VCALENDAR
VERSION:2.0
PRODID:-//Tukios.com/
BEGIN:VEVENT
UID:12734e23-4747-4fa6-b890-773a8659dda9@www.paradisfuneralhome.com
DTSTAMP:20260422T000635Z
DTSTART:20260428T150000Z
DTEND:20260428T160000Z
SUMMARY:Mass
DESCRIPTION:
URL:https://www.paradisfuneralhome.com/obituaries/retired-colonel-a-russell-pytko
LOCATION: 332 Main St  Oxford MA 01540
GEO:42.1186841;-71.8641325
END:VEVENT
END:VCALENDAR