BEGIN:VCALENDAR
VERSION:2.0
PRODID:-//Tukios.com/
BEGIN:VEVENT
UID:f38a6798-67df-482d-8aed-28bba8cbc88f@www.paradisfuneralhome.com
DTSTAMP:20260422T000932Z
DTSTART:20260428
SUMMARY:Burial
DESCRIPTION:
URL:https://www.paradisfuneralhome.com/obituaries/retired-colonel-a-russell-pytko
LOCATION: Main Street (Route 12)  Oxford MA 01540
GEO:42.0801598;-71.8695578
END:VEVENT
END:VCALENDAR